BEGIN:VCALENDAR
VERSION:2.0
PRODID:hinto.net
X-PUBLISHED-TTL:P1W
BEGIN:VEVENT
UID:hinto.net-event_show-6930039
DTSTART:20260430T200000
SEQUENCE:0
CREATED:20260420T222352
LAST-MODIFIED:20260420T222352
TRANSP:OPAQUE

LOCATION:Manoir de Martigny
SUMMARY:RAEIN [IT]
CLASS:PUBLIC
DESCRIPTION:
ORGANIZER:
DTSTAMP:20260424T121806
ATTACH:https://www.hinto.ch/de/events/raein-[it]-30-04-2026-2000-manoir-de-martigny-martigny-e2851861-20.html
END:VEVENT
END:VCALENDAR
